Package: vulcan Version: 1.30.0 Command: /home/biocbuild/R/R/bin/R CMD INSTALL vulcan StartedAt: 2025-10-13 21:18:18 -0000 (Mon, 13 Oct 2025) EndedAt: 2025-10-13 21:19:43 -0000 (Mon, 13 Oct 2025) EllapsedTime: 84.8 seconds RetCode: 0 Status: OK