Package: vulcan Version: 1.32.0 Maintainer: Federico M. Giorgi MaintainerEmail: federico.giorgi at gmail.com git_url: https://git.bioconductor.org/packages/vulcan git_branch: RELEASE_3_22 git_last_commit: 55315e7 git_last_commit_date: 2025-10-29 10:41:08 -0400 (Wed, 29 Oct 2025)