Package: vtpnet Version: 0.50.0 Command: /home/biocbuild/bbs-3.22-bioc/R/bin/R CMD INSTALL vtpnet StartedAt: 2025-11-11 15:45:46 -0500 (Tue, 11 Nov 2025) EndedAt: 2025-11-11 15:46:35 -0500 (Tue, 11 Nov 2025) EllapsedTime: 48.7 seconds RetCode: 0 Status: OK