Package: vtpnet Version: 0.50.0 Command: /Library/Frameworks/R.framework/Resources/bin/R CMD INSTALL vtpnet StartedAt: 2025-11-10 15:21:08 -0500 (Mon, 10 Nov 2025) EndedAt: 2025-11-10 15:21:30 -0500 (Mon, 10 Nov 2025) EllapsedTime: 21.6 seconds RetCode: 0 Status: OK