Package: vtpnet Version: 0.50.0 Command: /Library/Frameworks/R.framework/Resources/bin/R CMD build --keep-empty-dirs --no-resave-data vtpnet StartedAt: 2025-11-10 18:08:38 -0500 (Mon, 10 Nov 2025) EndedAt: 2025-11-10 18:09:18 -0500 (Mon, 10 Nov 2025) EllapsedTime: 39.4 seconds RetCode: 0 Status: OK PackageFile: vtpnet_0.50.0.tar.gz PackageFileSize: 20.22 MiB