Package: vsn Version: 3.78.0 Command: /home/biocbuild/bbs-3.22-bioc/R/bin/R CMD INSTALL vsn StartedAt: 2025-11-14 15:14:08 -0500 (Fri, 14 Nov 2025) EndedAt: 2025-11-14 15:14:17 -0500 (Fri, 14 Nov 2025) EllapsedTime: 8.9 seconds RetCode: 0 Status: OK