Package: vsn Version: 3.78.0 Command: /home/biocbuild/bbs-3.22-bioc/R/bin/R CMD build --keep-empty-dirs --no-resave-data --md5 vsn StartedAt: 2025-11-14 20:53:11 -0500 (Fri, 14 Nov 2025) EndedAt: 2025-11-14 20:53:56 -0500 (Fri, 14 Nov 2025) EllapsedTime: 45.0 seconds RetCode: 0 Status: OK PackageFile: vsn_3.78.0.tar.gz PackageFileSize: 1.928 MiB