Package: vsclust Version: 1.12.0 Command: /home/biocbuild/bbs-3.22-bioc/R/bin/R CMD check --install=check:vsclust.install-out.txt --library=/home/biocbuild/bbs-3.22-bioc/R/site-library --timings vsclust_1.12.0.tar.gz StartedAt: 2025-11-14 05:23:11 -0500 (Fri, 14 Nov 2025) EndedAt: 2025-11-14 05:31:32 -0500 (Fri, 14 Nov 2025) EllapsedTime: 501.6 seconds RetCode: 0 Status: OK CheckDir: vsclust.Rcheck Warnings: 0