Package: vsclust Version: 1.10.0 Command: /home/biocbuild/bbs-3.21-bioc/R/bin/R CMD build --keep-empty-dirs --no-resave-data vsclust StartedAt: 2025-10-15 20:30:16 -0400 (Wed, 15 Oct 2025) EndedAt: 2025-10-15 20:32:25 -0400 (Wed, 15 Oct 2025) EllapsedTime: 129.1 seconds RetCode: 0 Status: OK PackageFile: vsclust_1.10.0.tar.gz PackageFileSize: 3.66 MiB