Package: vsclust Version: 1.10.0 Command: /Library/Frameworks/R.framework/Resources/bin/R CMD INSTALL vsclust StartedAt: 2025-04-21 15:18:56 -0400 (Mon, 21 Apr 2025) EndedAt: 2025-04-21 15:19:39 -0400 (Mon, 21 Apr 2025) EllapsedTime: 43.0 seconds RetCode: 0 Status: OK