Package: vsclust Version: 1.10.0 Command: /home/biocbuild/R/R/bin/R CMD INSTALL vsclust StartedAt: 2025-10-06 20:32:03 -0000 (Mon, 06 Oct 2025) EndedAt: 2025-10-06 20:32:53 -0000 (Mon, 06 Oct 2025) EllapsedTime: 49.2 seconds RetCode: 0 Status: OK