Package: vsclust Version: 1.10.0 Command: /home/biocbuild/R/R/bin/R CMD build --keep-empty-dirs --no-resave-data vsclust StartedAt: 2025-10-07 05:35:00 -0000 (Tue, 07 Oct 2025) EndedAt: 2025-10-07 05:37:56 -0000 (Tue, 07 Oct 2025) EllapsedTime: 176.1 seconds RetCode: 0 Status: OK PackageFile: vsclust_1.10.0.tar.gz PackageFileSize: 3.565 MiB