Package: vsclust Version: 1.12.0 Command: /Library/Frameworks/R.framework/Resources/bin/R CMD INSTALL vsclust StartedAt: 2025-11-10 15:25:16 -0500 (Mon, 10 Nov 2025) EndedAt: 2025-11-10 15:25:33 -0500 (Mon, 10 Nov 2025) EllapsedTime: 16.8 seconds RetCode: 0 Status: OK