Package: vsclust Version: 1.12.0 Command: /Library/Frameworks/R.framework/Resources/bin/R CMD build --keep-empty-dirs --no-resave-data vsclust StartedAt: 2025-11-10 18:08:15 -0500 (Mon, 10 Nov 2025) EndedAt: 2025-11-10 18:09:16 -0500 (Mon, 10 Nov 2025) EllapsedTime: 60.6 seconds RetCode: 0 Status: OK PackageFile: vsclust_1.12.0.tar.gz PackageFileSize: 3.833 MiB