Package: vsclust Version: 1.12.0 Command: rm -rf vsclust.buildbin-libdir && mkdir vsclust.buildbin-libdir && /Users/biocbuild/BBS/utils/build-universal.sh vsclust_1.12.0.tar.gz /Library/Frameworks/R.framework/Resources/bin/R vsclust.buildbin-libdir StartedAt: 2025-11-10 23:40:55 -0500 (Mon, 10 Nov 2025) EndedAt: 2025-11-10 23:41:13 -0500 (Mon, 10 Nov 2025) EllapsedTime: 18.3 seconds RetCode: 0 Status: OK PackageFile: vsclust_1.12.0.tgz PackageFileSize: 3.967 MiB