Package: vsclust Version: 1.10.0 Command: rm -rf vsclust.buildbin-libdir && mkdir vsclust.buildbin-libdir && /Users/biocbuild/BBS/utils/build-universal.sh vsclust_1.10.0.tar.gz /Library/Frameworks/R.framework/Resources/bin/R vsclust.buildbin-libdir StartedAt: 2025-10-15 21:00:51 -0400 (Wed, 15 Oct 2025) EndedAt: 2025-10-15 21:01:35 -0400 (Wed, 15 Oct 2025) EllapsedTime: 44.0 seconds RetCode: 0 Status: OK PackageFile: vsclust_1.10.0.tgz PackageFileSize: 3.968 MiB