Package: vsclust Version: 1.12.0 Maintainer: Veit Schwammle MaintainerEmail: veits at bmb.sdu.dk git_url: https://git.bioconductor.org/packages/vsclust git_branch: RELEASE_3_22 git_last_commit: 5f4dab1 git_last_commit_date: 2025-10-29 11:19:19 -0400 (Wed, 29 Oct 2025)