Package: vmrseq Version: 1.2.0 Command: /home/biocbuild/bbs-3.22-bioc/R/bin/R CMD build --keep-empty-dirs --no-resave-data --md5 vmrseq StartedAt: 2025-11-13 20:50:45 -0500 (Thu, 13 Nov 2025) EndedAt: 2025-11-13 20:52:09 -0500 (Thu, 13 Nov 2025) EllapsedTime: 84.0 seconds RetCode: 0 Status: OK PackageFile: vmrseq_1.2.0.tar.gz PackageFileSize: 2.985 MiB