Package: vmrseq Version: 1.2.0 Command: /Library/Frameworks/R.framework/Resources/bin/R CMD build --keep-empty-dirs --no-resave-data vmrseq StartedAt: 2025-11-10 18:07:58 -0500 (Mon, 10 Nov 2025) EndedAt: 2025-11-10 18:08:33 -0500 (Mon, 10 Nov 2025) EllapsedTime: 35.4 seconds RetCode: 0 Status: OK PackageFile: vmrseq_1.2.0.tar.gz PackageFileSize: 2.982 MiB