Package: vissE Version: 1.18.0 Command: /home/biocbuild/bbs-3.22-bioc/R/bin/R CMD build --keep-empty-dirs --no-resave-data --md5 vissE StartedAt: 2025-11-11 20:52:32 -0500 (Tue, 11 Nov 2025) EndedAt: 2025-11-11 20:58:43 -0500 (Tue, 11 Nov 2025) EllapsedTime: 371.3 seconds RetCode: 0 Status: OK PackageFile: vissE_1.18.0.tar.gz PackageFileSize: 1.563 MiB