Package: vissE Version: 1.18.0 Command: /Library/Frameworks/R.framework/Resources/bin/R CMD build --keep-empty-dirs --no-resave-data vissE StartedAt: 2025-11-10 18:07:52 -0500 (Mon, 10 Nov 2025) EndedAt: 2025-11-10 18:09:51 -0500 (Mon, 10 Nov 2025) EllapsedTime: 119.3 seconds RetCode: 0 Status: OK PackageFile: vissE_1.18.0.tar.gz PackageFileSize: 1.654 MiB