Package: visiumStitched Version: 1.2.0 Command: /home/biocbuild/bbs-3.22-bioc/R/bin/R CMD INSTALL visiumStitched StartedAt: 2025-11-06 15:58:58 -0500 (Thu, 06 Nov 2025) EndedAt: 2025-11-06 15:59:48 -0500 (Thu, 06 Nov 2025) EllapsedTime: 50.6 seconds RetCode: 0 Status: OK