Package: visiumStitched Version: 1.2.0 Command: /home/biocbuild/bbs-3.22-bioc/R/bin/R CMD build --keep-empty-dirs --no-resave-data --md5 visiumStitched StartedAt: 2025-11-06 20:43:28 -0500 (Thu, 06 Nov 2025) EndedAt: 2025-11-06 20:48:05 -0500 (Thu, 06 Nov 2025) EllapsedTime: 277.2 seconds RetCode: 0 Status: OK PackageFile: visiumStitched_1.2.0.tar.gz PackageFileSize: 3.209 MiB