Package: vidger Version: 1.30.0 Command: /home/biocbuild/bbs-3.22-bioc/R/bin/R CMD INSTALL vidger StartedAt: 2025-11-17 17:29:46 -0500 (Mon, 17 Nov 2025) EndedAt: 2025-11-17 17:30:21 -0500 (Mon, 17 Nov 2025) EllapsedTime: 35.4 seconds RetCode: 0 Status: OK