Package: velociraptor Version: 1.20.0 Command: /home/biocbuild/bbs-3.22-bioc/R/bin/R CMD INSTALL velociraptor StartedAt: 2025-11-03 15:56:40 -0500 (Mon, 03 Nov 2025) EndedAt: 2025-11-03 15:57:00 -0500 (Mon, 03 Nov 2025) EllapsedTime: 19.6 seconds RetCode: 0 Status: OK