Package: vbmp Version: 1.78.0 Command: /home/biocbuild/bbs-3.22-bioc/R/bin/R CMD INSTALL vbmp StartedAt: 2025-11-11 15:08:26 -0500 (Tue, 11 Nov 2025) EndedAt: 2025-11-11 15:08:40 -0500 (Tue, 11 Nov 2025) EllapsedTime: 13.8 seconds RetCode: 0 Status: OK