Package: vbmp Version: 1.78.0 Command: /home/biocbuild/bbs-3.22-bioc/R/bin/R CMD build --keep-empty-dirs --no-resave-data --md5 vbmp StartedAt: 2025-11-11 20:50:19 -0500 (Tue, 11 Nov 2025) EndedAt: 2025-11-11 20:50:49 -0500 (Tue, 11 Nov 2025) EllapsedTime: 30.0 seconds RetCode: 0 Status: OK PackageFile: vbmp_1.78.0.tar.gz PackageFileSize: 1.763 MiB