Package: vbmp Version: 1.78.0 Command: /Library/Frameworks/R.framework/Resources/bin/R CMD INSTALL vbmp StartedAt: 2025-11-03 15:11:10 -0500 (Mon, 03 Nov 2025) EndedAt: 2025-11-03 15:11:53 -0500 (Mon, 03 Nov 2025) EllapsedTime: 42.1 seconds RetCode: 0 Status: OK