Package: vbmp Version: 1.78.0 Command: /Library/Frameworks/R.framework/Resources/bin/R CMD build --keep-empty-dirs --no-resave-data vbmp StartedAt: 2025-11-03 19:12:15 -0500 (Mon, 03 Nov 2025) EndedAt: 2025-11-03 19:12:53 -0500 (Mon, 03 Nov 2025) EllapsedTime: 37.7 seconds RetCode: 0 Status: OK PackageFile: vbmp_1.78.0.tar.gz PackageFileSize: 1.761 MiB