Package: vbmp Version: 1.78.0 Command: rm -rf vbmp.buildbin-libdir && mkdir vbmp.buildbin-libdir && /Users/biocbuild/BBS/utils/build-universal.sh vbmp_1.78.0.tar.gz /Library/Frameworks/R.framework/Resources/bin/R vbmp.buildbin-libdir StartedAt: 2025-11-04 02:10:09 -0500 (Tue, 04 Nov 2025) EndedAt: 2025-11-04 02:10:15 -0500 (Tue, 04 Nov 2025) EllapsedTime: 5.8 seconds RetCode: 0 Status: OK PackageFile: vbmp_1.78.0.tgz PackageFileSize: 1.803 MiB