Package: vbmp Version: 1.76.0 Command: /home/biocbuild/R/R/bin/R CMD INSTALL vbmp StartedAt: 2025-10-13 20:14:53 -0000 (Mon, 13 Oct 2025) EndedAt: 2025-10-13 20:15:14 -0000 (Mon, 13 Oct 2025) EllapsedTime: 21.7 seconds RetCode: 0 Status: OK