Package: vbmp Version: 1.76.0 Command: /home/biocbuild/R/R/bin/R CMD build --keep-empty-dirs --no-resave-data vbmp StartedAt: 2025-10-14 05:38:19 -0000 (Tue, 14 Oct 2025) EndedAt: 2025-10-14 05:39:01 -0000 (Tue, 14 Oct 2025) EllapsedTime: 42.0 seconds RetCode: 0 Status: OK PackageFile: vbmp_1.76.0.tar.gz PackageFileSize: 1.753 MiB