Package: vbmp Version: 1.78.0 Command: /Library/Frameworks/R.framework/Resources/bin/R CMD INSTALL vbmp StartedAt: 2025-11-20 16:00:50 -0500 (Thu, 20 Nov 2025) EndedAt: 2025-11-20 16:01:01 -0500 (Thu, 20 Nov 2025) EllapsedTime: 11.5 seconds RetCode: 0 Status: OK