Package: vbmp Version: 1.78.0 Command: /Library/Frameworks/R.framework/Resources/bin/R CMD build --keep-empty-dirs --no-resave-data vbmp StartedAt: 2025-11-21 13:24:57 -0500 (Fri, 21 Nov 2025) EndedAt: 2025-11-21 13:25:41 -0500 (Fri, 21 Nov 2025) EllapsedTime: 44.0 seconds RetCode: 0 Status: OK PackageFile: vbmp_1.78.0.tar.gz PackageFileSize: 1.761 MiB