Package: variancePartition Version: 1.40.0 Command: /home/biocbuild/R/R/bin/R CMD build --keep-empty-dirs --no-resave-data variancePartition StartedAt: 2025-11-11 06:05:09 -0000 (Tue, 11 Nov 2025) EndedAt: 2025-11-11 06:23:01 -0000 (Tue, 11 Nov 2025) EllapsedTime: 1072.5 seconds RetCode: 0 Status: OK PackageFile: variancePartition_1.40.0.tar.gz PackageFileSize: 4.082 MiB