Package: variancePartition Version: 1.38.1 Command: /home/biocbuild/bbs-3.21-bioc/R/bin/R CMD build --keep-empty-dirs --no-resave-data variancePartition StartedAt: 2025-09-28 20:39:16 -0400 (Sun, 28 Sep 2025) EndedAt: 2025-09-28 20:50:22 -0400 (Sun, 28 Sep 2025) EllapsedTime: 665.1 seconds RetCode: 0 Status: OK PackageFile: variancePartition_1.38.1.tar.gz PackageFileSize: 4.719 MiB