Package: variancePartition Version: 1.38.1 Command: /Library/Frameworks/R.framework/Resources/bin/R CMD check --install=check:variancePartition.install-out.txt --library=/Library/Frameworks/R.framework/Resources/library --no-vignettes --timings variancePartition_1.38.1.tar.gz StartedAt: 2025-10-01 16:23:34 -0400 (Wed, 01 Oct 2025) EndedAt: 2025-10-01 16:32:44 -0400 (Wed, 01 Oct 2025) EllapsedTime: 549.9 seconds RetCode: 0 Status: OK CheckDir: variancePartition.Rcheck Warnings: 0