Package: updateObject Version: 1.14.0 Command: /home/biocbuild/R/R/bin/R CMD build --keep-empty-dirs --no-resave-data updateObject StartedAt: 2025-11-11 06:04:04 -0000 (Tue, 11 Nov 2025) EndedAt: 2025-11-11 06:04:43 -0000 (Tue, 11 Nov 2025) EllapsedTime: 38.0 seconds RetCode: 0 Status: OK PackageFile: updateObject_1.14.0.tar.gz PackageFileSize: 1.313 MiB