Package: updateObject Version: 1.12.0 Command: chmod a+r updateObject -R && E:\biocbuild\bbs-3.21-bioc\R\bin\R.exe CMD build --keep-empty-dirs --no-resave-data updateObject StartedAt: 2025-08-14 22:52:22 -0400 (Thu, 14 Aug 2025) EndedAt: 2025-08-14 22:52:57 -0400 (Thu, 14 Aug 2025) EllapsedTime: 34.9 seconds RetCode: 0 Status: OK PackageFile: updateObject_1.12.0.tar.gz PackageFileSize: 1.289 MiB