Package: updateObject Version: 1.14.0 Command: /home/biocbuild/bbs-3.22-bioc/R/bin/R CMD INSTALL updateObject StartedAt: 2025-11-11 15:17:26 -0500 (Tue, 11 Nov 2025) EndedAt: 2025-11-11 15:17:31 -0500 (Tue, 11 Nov 2025) EllapsedTime: 5.0 seconds RetCode: 0 Status: OK