Package: updateObject Version: 1.14.0 Command: /home/biocbuild/bbs-3.22-bioc/R/bin/R CMD build --keep-empty-dirs --no-resave-data --md5 updateObject StartedAt: 2025-11-13 20:46:54 -0500 (Thu, 13 Nov 2025) EndedAt: 2025-11-13 20:47:14 -0500 (Thu, 13 Nov 2025) EllapsedTime: 20.0 seconds RetCode: 0 Status: OK PackageFile: updateObject_1.14.0.tar.gz PackageFileSize: 1.29 MiB