Package: updateObject Version: 1.12.0 Command: /home/biocbuild/bbs-3.21-bioc/R/bin/R CMD build --keep-empty-dirs --no-resave-data updateObject StartedAt: 2025-09-28 20:38:44 -0400 (Sun, 28 Sep 2025) EndedAt: 2025-09-28 20:39:04 -0400 (Sun, 28 Sep 2025) EllapsedTime: 20.0 seconds RetCode: 0 Status: OK PackageFile: updateObject_1.12.0.tar.gz PackageFileSize: 1.289 MiB