Package: updateObject Version: 1.12.0 Command: /Library/Frameworks/R.framework/Resources/bin/R CMD build --keep-empty-dirs --no-resave-data updateObject StartedAt: 2025-09-25 23:27:20 -0400 (Thu, 25 Sep 2025) EndedAt: 2025-09-25 23:28:03 -0400 (Thu, 25 Sep 2025) EllapsedTime: 43.1 seconds RetCode: 0 Status: OK PackageFile: updateObject_1.12.0.tar.gz PackageFileSize: 1.289 MiB