Package: updateObject Version: 1.12.0 Command: /home/biocbuild/R/R/bin/R CMD check --install=check:updateObject.install-out.txt --library=/home/biocbuild/R/R/site-library --no-vignettes --timings updateObject_1.12.0.tar.gz StartedAt: 2025-10-10 15:10:16 -0000 (Fri, 10 Oct 2025) EndedAt: 2025-10-10 15:11:37 -0000 (Fri, 10 Oct 2025) EllapsedTime: 81.1 seconds RetCode: 0 Status: OK CheckDir: updateObject.Rcheck Warnings: 0