Package: updateObject Version: 1.12.0 Command: /home/biocbuild/R/R/bin/R CMD build --keep-empty-dirs --no-resave-data updateObject StartedAt: 2025-09-26 06:53:26 -0000 (Fri, 26 Sep 2025) EndedAt: 2025-09-26 06:53:56 -0000 (Fri, 26 Sep 2025) EllapsedTime: 30.0 seconds RetCode: 0 Status: OK PackageFile: updateObject_1.12.0.tar.gz PackageFileSize: 1.313 MiB