Package: updateObject Version: 1.14.0 Command: /Library/Frameworks/R.framework/Resources/bin/R CMD check --install=check:updateObject.install-out.txt --library=/Library/Frameworks/R.framework/Resources/library --no-vignettes --timings updateObject_1.14.0.tar.gz StartedAt: 2025-10-31 22:43:10 -0400 (Fri, 31 Oct 2025) EndedAt: 2025-10-31 22:43:33 -0400 (Fri, 31 Oct 2025) EllapsedTime: 23.3 seconds RetCode: 0 Status: OK CheckDir: updateObject.Rcheck Warnings: 0