Package: updateObject Version: 1.12.0 Command: /Library/Frameworks/R.framework/Resources/bin/R CMD INSTALL updateObject StartedAt: 2025-09-25 15:34:48 -0400 (Thu, 25 Sep 2025) EndedAt: 2025-09-25 15:34:53 -0400 (Thu, 25 Sep 2025) EllapsedTime: 5.1 seconds RetCode: 0 Status: OK