Package: universalmotif Version: 1.28.0 Command: /home/biocbuild/bbs-3.22-bioc/R/bin/R CMD INSTALL universalmotif StartedAt: 2025-11-17 17:16:07 -0500 (Mon, 17 Nov 2025) EndedAt: 2025-11-17 17:17:51 -0500 (Mon, 17 Nov 2025) EllapsedTime: 104.5 seconds RetCode: 0 Status: OK