Package: unifiedWMWqPCR Version: 1.46.0 Command: /home/biocbuild/R/R/bin/R CMD INSTALL unifiedWMWqPCR StartedAt: 2025-11-10 21:17:14 -0000 (Mon, 10 Nov 2025) EndedAt: 2025-11-10 21:17:21 -0000 (Mon, 10 Nov 2025) EllapsedTime: 6.3 seconds RetCode: 0 Status: OK