Package: unifiedWMWqPCR Version: 1.46.0 Command: /home/biocbuild/R/R/bin/R CMD build --keep-empty-dirs --no-resave-data unifiedWMWqPCR StartedAt: 2025-11-11 06:03:53 -0000 (Tue, 11 Nov 2025) EndedAt: 2025-11-11 06:04:04 -0000 (Tue, 11 Nov 2025) EllapsedTime: 11.0 seconds RetCode: 0 Status: OK PackageFile: unifiedWMWqPCR_1.46.0.tar.gz PackageFileSize: 492.8 KiB